BEGIN:VCALENDAR
VERSION:2.0
PRODID:-//Raiz - ECPv6.15.19//NONSGML v1.0//EN
CALSCALE:GREGORIAN
METHOD:PUBLISH
X-WR-CALNAME:Raiz
X-ORIGINAL-URL:http://amondr.profreed.com
X-WR-CALDESC:Events for Raiz
REFRESH-INTERVAL;VALUE=DURATION:PT1H
X-Robots-Tag:noindex
X-PUBLISHED-TTL:PT1H
BEGIN:VTIMEZONE
TZID:America/Los_Angeles
BEGIN:DAYLIGHT
TZOFFSETFROM:-0800
TZOFFSETTO:-0700
TZNAME:PDT
DTSTART:20250309T100000
END:DAYLIGHT
BEGIN:STANDARD
TZOFFSETFROM:-0700
TZOFFSETTO:-0800
TZNAME:PST
DTSTART:20251102T090000
END:STANDARD
BEGIN:DAYLIGHT
TZOFFSETFROM:-0800
TZOFFSETTO:-0700
TZNAME:PDT
DTSTART:20260308T100000
END:DAYLIGHT
BEGIN:STANDARD
TZOFFSETFROM:-0700
TZOFFSETTO:-0800
TZNAME:PST
DTSTART:20261101T090000
END:STANDARD
BEGIN:DAYLIGHT
TZOFFSETFROM:-0800
TZOFFSETTO:-0700
TZNAME:PDT
DTSTART:20270314T100000
END:DAYLIGHT
BEGIN:STANDARD
TZOFFSETFROM:-0700
TZOFFSETTO:-0800
TZNAME:PST
DTSTART:20271107T090000
END:STANDARD
END:VTIMEZONE
BEGIN:VEVENT
DTSTART;TZID=America/Los_Angeles:20260622T080000
DTEND;TZID=America/Los_Angeles:20260623T170000
DTSTAMP:20260419T072756
CREATED:20260408T024914Z
LAST-MODIFIED:20260408T024914Z
UID:148-1782115200-1782234000@amondr.profreed.com
SUMMARY:Workshop Event
DESCRIPTION:👩‍🍳 RAÍZ Vendor Growth Workshop\nJoin us for an exclusive workshop designed to help local Latino food vendors grow their business using the RAÍZ platform. This event focuses on providing tools\, knowledge\, and strategies to succeed in the digital marketplace. \n🎯 Event Purpose\nThis workshop is designed to: \n\nHelp vendors increase their sales\nTeach how to use the RAÍZ platform effectively\nProvide marketing and pricing strategies\nSupport small business growth\n\n📚 What You Will Learn\n\nHow to create an attractive vendor profile\nTips to improve food presentation and listings\nPricing strategies using AI insights\nHow to attract and retain customers\nBasics of digital marketing for small businesses\n\n🤝 What to Expect\n\nLive training session\nQ&A with the RAÍZ team\nNetworking with other vendors\nReal examples and success tips\n\n📍 Event Details\n\nLocation: Reno\, Nevada\nDate: 06/22/2026\nTime: 8:00am\n\n🎉 Why Attend?\nThis is a great opportunity to learn how to grow your business\, reach more customers\, and take advantage of technology to succeed. \n👉 Empower your business with RAÍZ!
URL:http://amondr.profreed.com/event/workshop-event/
END:VEVENT
END:VCALENDAR